BEGIN:VCALENDAR
VERSION:2.0
PRODID:-//Livre échange - ECPv6.5.1.5//NONSGML v1.0//EN
CALSCALE:GREGORIAN
METHOD:PUBLISH
X-ORIGINAL-URL:https://www.livre-echange.be
X-WR-CALDESC:évènements pour Livre échange
REFRESH-INTERVAL;VALUE=DURATION:PT1H
X-Robots-Tag:noindex
X-PUBLISHED-TTL:PT1H
BEGIN:VTIMEZONE
TZID:Europe/Brussels
BEGIN:DAYLIGHT
TZOFFSETFROM:+0100
TZOFFSETTO:+0200
TZNAME:CEST
DTSTART:20180325T010000
END:DAYLIGHT
BEGIN:STANDARD
TZOFFSETFROM:+0200
TZOFFSETTO:+0100
TZNAME:CET
DTSTART:20181028T010000
END:STANDARD
END:VTIMEZONE
BEGIN:VEVENT
DTSTART;TZID=Europe/Brussels:20181215T100000
DTEND;TZID=Europe/Brussels:20181215T123000
DTSTAMP:20260424T002256
CREATED:20181209T110940Z
LAST-MODIFIED:20181209T110940Z
UID:2565-1544868000-1544877000@www.livre-echange.be
SUMMARY:Rencontrez Laurence ORTEGAT au livre échange du 15/12/2018
DESCRIPTION:Pour fêter la dernière rencontre de l’année 2018\, nous aurons la chance d’accueillir\, à 11h00\, Laurence ORTEGAT\, habitante de Chaumont-Gistoux et passionnée d’écriture et de livres\, coach d’auteurs et coordinatrice de CLéA – Compagnie de Lecteurs et d’Auteurs. \nToutes les informations sur l’évènement.
URL:https://www.livre-echange.be/event/rencontrez-laurence-ortegat-livre-echange-15122018/
LOCATION:CPAS Chaumont-Gistoux\, rue zaine 9\, Chaumont-Gistoux\, 1325\, Belgique
CATEGORIES:Rencontres livre échange
ATTACH;FMTTYPE=image/jpeg:https://www.livre-echange.be/wp-content/uploads/2018/12/laurence-ortegat.jpeg
ORGANIZER;CN="Livre %C3%A9change citoyen":MAILTO:info@livre-echange.be
END:VEVENT
END:VCALENDAR