BEGIN:VCALENDAR
VERSION:2.0
PRODID:-//Livre échange - ECPv6.5.1.5//NONSGML v1.0//EN
CALSCALE:GREGORIAN
METHOD:PUBLISH
X-WR-CALNAME:Livre échange
X-ORIGINAL-URL:https://www.livre-echange.be
X-WR-CALDESC:évènements pour Livre échange
REFRESH-INTERVAL;VALUE=DURATION:PT1H
X-Robots-Tag:noindex
X-PUBLISHED-TTL:PT1H
BEGIN:VTIMEZONE
TZID:Europe/Brussels
BEGIN:DAYLIGHT
TZOFFSETFROM:+0100
TZOFFSETTO:+0200
TZNAME:CEST
DTSTART:20170326T010000
END:DAYLIGHT
BEGIN:STANDARD
TZOFFSETFROM:+0200
TZOFFSETTO:+0100
TZNAME:CET
DTSTART:20171029T010000
END:STANDARD
END:VTIMEZONE
BEGIN:VEVENT
DTSTART;TZID=Europe/Brussels:20170218T100000
DTEND;TZID=Europe/Brussels:20170218T123000
DTSTAMP:20260425T021303
CREATED:20170113T185120Z
LAST-MODIFIED:20170212T093020Z
UID:2465-1487412000-1487421000@www.livre-echange.be
SUMMARY:Rencontre du livre échange février 2017
DESCRIPTION:Cher(e)s livre échangeurs et livre échangeuses\, \nNous vous rappelons notre traditionnel rendez-vous du 3° samedi du mois. \nVenez nous rendre visite au CPAS de Chaumont-Gistoux entre 10h00 et 12h30 pour découvrir les nouveaux livres à échanger et faire profiter notre petite communauté de vos nouvelles lectures. \nLors de cette rencontre\, nous aurons la grande chance de recevoir une Romancière bien de chez nous.\nIl s’agit de Martine Roland\, auteure de « C’est un secret entre nous »\, paru en 2016 aux Editions Memory.\nMartine est née en 1953 à Bruxelles\, est enseignante et s’implique également dans des projets sociaux pour autistes.\nNous aurons ainsi l’occasion d’en savoir plus sur le métier d’écrivain.\nEt ce\, …En toute convivialité\, pour ne rien changer !!! \nA très bientôt\, \nLes livre échangeurs
URL:https://www.livre-echange.be/event/rencontre-livre-echange-022017/
LOCATION:CPAS Chaumont-Gistoux\, rue zaine 9\, Chaumont-Gistoux\, 1325\, Belgique
CATEGORIES:Rencontres livre échange
ATTACH;FMTTYPE=image/jpeg:https://www.livre-echange.be/wp-content/uploads/2016/10/livres.jpg
ORGANIZER;CN="Livre %C3%A9change citoyen":MAILTO:info@livre-echange.be
END:VEVENT
END:VCALENDAR