BEGIN:VCALENDAR
VERSION:2.0
PRODID:-//Livre échange - ECPv6.5.1.5//NONSGML v1.0//EN
CALSCALE:GREGORIAN
METHOD:PUBLISH
X-ORIGINAL-URL:https://www.livre-echange.be
X-WR-CALDESC:évènements pour Livre échange
REFRESH-INTERVAL;VALUE=DURATION:PT1H
X-Robots-Tag:noindex
X-PUBLISHED-TTL:PT1H
BEGIN:VTIMEZONE
TZID:Europe/Brussels
BEGIN:DAYLIGHT
TZOFFSETFROM:+0100
TZOFFSETTO:+0200
TZNAME:CEST
DTSTART:20180325T010000
END:DAYLIGHT
BEGIN:STANDARD
TZOFFSETFROM:+0200
TZOFFSETTO:+0100
TZNAME:CET
DTSTART:20181028T010000
END:STANDARD
END:VTIMEZONE
BEGIN:VEVENT
DTSTART;TZID=Europe/Brussels:20180616T100000
DTEND;TZID=Europe/Brussels:20180616T123000
DTSTAMP:20260424T064542
CREATED:20180610T172242Z
LAST-MODIFIED:20180610T173029Z
UID:2547-1529143200-1529152200@www.livre-echange.be
SUMMARY:Rencontre de Martine Roland lors du livre échange du 16/06/2018
DESCRIPTION:Invitation à ne pas manquer – Venez nombreux rencontrer une auteure primée !\nNous avions déjà eu le plaisir d’accueillir l’écrivain Martine Roland il y a 2 ans\, qui nous présentait\, ainsi qu’à la presse\, son premier roman\, « C’est un secret entre nous ». \nSon deuxième roman «Novaya Era » vient de remporter le premier prix de la Critique\, à l’unanimité\, au Salon international du Livre de Mazamet (Toulouse). \nMartine Roland nous fait le grand plaisir de venir partager\, ce samedi 16 juin dès 10h30 au Livre-échange\, cette belle reconnaissance et sa passion d’auteure\, et nous présentera\, en toute convivialité\, son roman et ses projets. \n \nNous aussi avons lu et apprécié Novaya Era : l’action de se passe dans les Pays baltes\, pays récemment entrés dans l’Union européenne en 2004 et encore très fragilisés en raison d’un lourd passé\, témoin de dominations « nationale-socialiste » et soviétique. \nMartine Roland publiera encore deux nouveaux romans cette année : « De la soie au bout des doigts »\, roman noir\, psychologique\, gay\, qui sera édité à Montréal en août prochain\, et « Barnabé\, c’est moi ! »\, roman pour tous et pour les « adulescents ». \nRappelons encore que les droits d’auteur de ses deux premiers romans sont reversés à l’asbl Les Héliotropes\, centre de jour pour personnes avec autisme. \nNe manquez pas cette rencontre – événement au Livre-échange ! \nPour découvrir déjà Martine Roland : \nMartine Roland Ecrivain (FB) \nmartineroland@hotmail.com \nhttps://artsrtlettres.ning.com/profiles/blog/show?id=3501272%3ABlogPost%3A1486954
URL:https://www.livre-echange.be/event/rencontre-livre-echange-16062018/
LOCATION:CPAS Chaumont-Gistoux\, rue zaine 9\, Chaumont-Gistoux\, 1325\, Belgique
CATEGORIES:Evènements littéraires,Rencontres livre échange
END:VEVENT
END:VCALENDAR