BEGIN:VCALENDAR
VERSION:2.0
PRODID:-//Livre échange - ECPv6.5.1.5//NONSGML v1.0//EN
CALSCALE:GREGORIAN
METHOD:PUBLISH
X-WR-CALNAME:Livre échange
X-ORIGINAL-URL:https://www.livre-echange.be
X-WR-CALDESC:évènements pour Livre échange
REFRESH-INTERVAL;VALUE=DURATION:PT1H
X-Robots-Tag:noindex
X-PUBLISHED-TTL:PT1H
BEGIN:VTIMEZONE
TZID:Europe/Brussels
BEGIN:DAYLIGHT
TZOFFSETFROM:+0100
TZOFFSETTO:+0200
TZNAME:CEST
DTSTART:20190331T010000
END:DAYLIGHT
BEGIN:STANDARD
TZOFFSETFROM:+0200
TZOFFSETTO:+0100
TZNAME:CET
DTSTART:20191027T010000
END:STANDARD
END:VTIMEZONE
BEGIN:VEVENT
DTSTART;TZID=Europe/Brussels:20190720T100000
DTEND;TZID=Europe/Brussels:20190720T123000
DTSTAMP:20260423T135114
CREATED:20190309T124555Z
LAST-MODIFIED:20190309T124631Z
UID:2616-1563616800-1563625800@www.livre-echange.be
SUMMARY:Rencontre du Livre échange du 20/07/2019
DESCRIPTION:Cher(e)s livre échangeurs et livre échangeuses\, \nNous vous rappelons notre traditionnel rendez-vous du 3° samedi du mois. \nVenez nous rendre visite au CPAS de Chaumont-Gistoux entre 10h00 et 12h30 pour découvrir les nouveaux livres à échanger et faire profiter notre petite communauté de vos nouvelles lectures. \nA très bientôt\, \nLes livre échangeurs
URL:https://www.livre-echange.be/event/rencontre-livre-echange-20072019/
LOCATION:CPAS Chaumont-Gistoux\, rue zaine 9\, Chaumont-Gistoux\, 1325\, Belgique
CATEGORIES:Rencontres livre échange
END:VEVENT
END:VCALENDAR